BEGIN:VCALENDAR
VERSION:2.0
PRODID:icalendar-ruby
CALSCALE:GREGORIAN
METHOD:PUBLISH
BEGIN:VEVENT
DTSTAMP:20260425T231016Z
UID:acca2788-99b6-4646-9ae5-7e805d44c1aa
DTSTART;VALUE=DATE:20191124
DTEND;VALUE=DATE:20191124
DESCRIPTION:Boomtown BMX
LOCATION:17760 Shasta Dam Blvd  Shasta Lake CA 96019 USA
SUMMARY:Standard Single Single
URL:/site/bmx_races/399782
END:VEVENT
END:VCALENDAR
