BEGIN:VCALENDAR
VERSION:2.0
PRODID:icalendar-ruby
CALSCALE:GREGORIAN
METHOD:PUBLISH
BEGIN:VEVENT
DTSTAMP:20260424T194726Z
UID:8a668983-1cc4-4da3-867e-e78769191ea6
DTSTART;VALUE=DATE:20190222
DTEND;VALUE=DATE:20190222
DESCRIPTION:Boomtown BMX
LOCATION:17760 Shasta Dam Blvd  Shasta Lake CA 96019 USA
SUMMARY:Standard Single Single
URL:/site/bmx_races/399703
END:VEVENT
END:VCALENDAR
