BEGIN:VCALENDAR
VERSION:2.0
PRODID:icalendar-ruby
CALSCALE:GREGORIAN
METHOD:PUBLISH
BEGIN:VEVENT
DTSTAMP:20260424T233936Z
UID:3dc67591-598e-4d66-8757-5d99c89e8437
DTSTART;VALUE=DATE:20190602
DTEND;VALUE=DATE:20190602
DESCRIPTION:Blue Springs BMX
LOCATION:2715 Nw Park Drive  Blue Springs MO 64015 USA
SUMMARY:Standard Double Double
URL:/site/bmx_races/399678
END:VEVENT
END:VCALENDAR
