BEGIN:VCALENDAR
VERSION:2.0
PRODID:icalendar-ruby
CALSCALE:GREGORIAN
METHOD:PUBLISH
BEGIN:VEVENT
DTSTAMP:20260424T082114Z
UID:638dae06-b61e-4091-8158-074642e0ce0d
DTSTART;VALUE=DATE:20190623
DTEND;VALUE=DATE:20190623
DESCRIPTION:Kelowna BMX
LOCATION:645 Dodd Rd  Kelowna BC V1X5H1 CAN
SUMMARY:Standard Triple Triple
URL:/site/bmx_races/399673
END:VEVENT
END:VCALENDAR
