BEGIN:VCALENDAR
VERSION:2.0
PRODID:icalendar-ruby
CALSCALE:GREGORIAN
METHOD:PUBLISH
BEGIN:VEVENT
DTSTAMP:20260424T172224Z
UID:836fdc1b-d338-49ac-aee0-8439d1fa54ad
DTSTART;VALUE=DATE:20191020
DTEND;VALUE=DATE:20191020
DESCRIPTION:Spreckels Park BMX
LOCATION:941 Spreckels Ave  Manteca CA 95336 USA
SUMMARY:Standard Single Single
URL:/site/bmx_races/399575
END:VEVENT
END:VCALENDAR
