BEGIN:VCALENDAR
VERSION:2.0
PRODID:icalendar-ruby
CALSCALE:GREGORIAN
METHOD:PUBLISH
BEGIN:VEVENT
DTSTAMP:20260424T154543Z
UID:ac81e81a-be4c-4ddf-880b-55b13c4e98e8
DTSTART;VALUE=DATE:20190907
DTEND;VALUE=DATE:20190907
DESCRIPTION:Hampton BMX
LOCATION:901 E Littleback River Rd  Hampton VA 23669 USA
SUMMARY:Standard Single Single
URL:/site/bmx_races/399452
END:VEVENT
END:VCALENDAR
