BEGIN:VCALENDAR
VERSION:2.0
PRODID:icalendar-ruby
CALSCALE:GREGORIAN
METHOD:PUBLISH
BEGIN:VEVENT
DTSTAMP:20260424T141634Z
UID:aeabe212-ecff-4749-ae08-62f9478c0b1e
DTSTART;VALUE=DATE:20190601
DTEND;VALUE=DATE:20190601
DESCRIPTION:Hampton BMX
LOCATION:901 E Littleback River Rd  Hampton VA 23669 USA
SUMMARY:Standard Single Single
URL:/site/bmx_races/399438
END:VEVENT
END:VCALENDAR
