BEGIN:VCALENDAR
VERSION:2.0
PRODID:icalendar-ruby
CALSCALE:GREGORIAN
METHOD:PUBLISH
BEGIN:VEVENT
DTSTAMP:20260424T152434Z
UID:cfce5e78-8cae-4aa2-b2f1-1c8d2154db0a
DTSTART;VALUE=DATE:20190922
DTEND;VALUE=DATE:20190922
DESCRIPTION:Music City BMX Association
LOCATION:2901 Bell Road  Nashville TN 37217 USA
SUMMARY:Standard Single Single
URL:/site/bmx_races/399410
END:VEVENT
END:VCALENDAR
