BEGIN:VCALENDAR
VERSION:2.0
PRODID:icalendar-ruby
CALSCALE:GREGORIAN
METHOD:PUBLISH
BEGIN:VEVENT
DTSTAMP:20260425T202008Z
UID:e62abf8c-279e-450c-a7bf-1d8ab4d0118e
DTSTART;VALUE=DATE:20190324
DTEND;VALUE=DATE:20190324
DESCRIPTION:Music City BMX Association
LOCATION:2901 Bell Road  Nashville TN 37217 USA
SUMMARY:Standard Single Single
URL:/site/bmx_races/399377
END:VEVENT
END:VCALENDAR
