BEGIN:VCALENDAR
VERSION:2.0
PRODID:icalendar-ruby
CALSCALE:GREGORIAN
METHOD:PUBLISH
BEGIN:VEVENT
DTSTAMP:20260424T184604Z
UID:073f716b-889c-4551-aa76-2ad2556e0db6
DTSTART;VALUE=DATE:20191121
DTEND;VALUE=DATE:20191121
DESCRIPTION:Silver Dollar BMX
LOCATION:2352 Dr. Martin Luther King Jr. Parkway  Chico CA 95928 USA
SUMMARY:Standard Single Single
URL:/site/bmx_races/399363
END:VEVENT
END:VCALENDAR
