BEGIN:VCALENDAR
VERSION:2.0
PRODID:icalendar-ruby
CALSCALE:GREGORIAN
METHOD:PUBLISH
BEGIN:VEVENT
DTSTAMP:20260424T201255Z
UID:3827ed94-1707-4cf7-8afa-4b39dca6c491
DTSTART;VALUE=DATE:20191006
DTEND;VALUE=DATE:20191006
DESCRIPTION:Silver Dollar BMX
LOCATION:2352 Dr. Martin Luther King Jr. Parkway  Chico CA 95928 USA
SUMMARY:Standard Single Single
URL:/site/bmx_races/399343
END:VEVENT
END:VCALENDAR
