BEGIN:VCALENDAR
VERSION:2.0
PRODID:icalendar-ruby
CALSCALE:GREGORIAN
METHOD:PUBLISH
BEGIN:VEVENT
DTSTAMP:20260424T141826Z
UID:b4ae06cf-c139-43f8-bf72-c1169e4cb953
DTSTART;VALUE=DATE:20190119
DTEND;VALUE=DATE:20190119
DESCRIPTION:Rum River BMX
LOCATION:Isanti Parkway Northwest  Isanti MN 55040 USA
SUMMARY:Standard Single Single
URL:/site/bmx_races/398722
END:VEVENT
END:VCALENDAR
