BEGIN:VCALENDAR
VERSION:2.0
PRODID:icalendar-ruby
CALSCALE:GREGORIAN
METHOD:PUBLISH
BEGIN:VEVENT
DTSTAMP:20260425T125357Z
UID:3597291b-91e3-425f-9af0-8896846deb55
DTSTART;VALUE=DATE:20190412
DTEND;VALUE=DATE:20190412
DESCRIPTION:Blue Springs BMX
LOCATION:2715 Nw Park Drive  Blue Springs MO 64015 USA
SUMMARY:Standard Single Single
URL:/site/bmx_races/398501
END:VEVENT
END:VCALENDAR
