BEGIN:VCALENDAR
VERSION:2.0
PRODID:icalendar-ruby
CALSCALE:GREGORIAN
METHOD:PUBLISH
BEGIN:VEVENT
DTSTAMP:20260424T143929Z
UID:22756ee2-ae69-499d-ba07-9d40cf6c13b0
DTSTART;VALUE=DATE:20190730
DTEND;VALUE=DATE:20190730
DESCRIPTION:Chula Vista BMX
LOCATION:2800 Olympic Parkway  Chula Vista CA 91915 USA
SUMMARY:Standard Single Single
URL:/site/bmx_races/398119
END:VEVENT
END:VCALENDAR
