BEGIN:VCALENDAR
VERSION:2.0
PRODID:icalendar-ruby
CALSCALE:GREGORIAN
METHOD:PUBLISH
BEGIN:VEVENT
DTSTAMP:20260426T005936Z
UID:2d08abd9-54f8-4314-ba06-7e21c32198d9
DTSTART;VALUE=DATE:20190821
DTEND;VALUE=DATE:20190821
DESCRIPTION:Winnebagoland BMX
LOCATION:4650 Jackson Street  Oshkosh WI 54901 USA
SUMMARY:Standard Single Single
URL:/site/bmx_races/397855
END:VEVENT
END:VCALENDAR
