BEGIN:VCALENDAR
VERSION:2.0
PRODID:icalendar-ruby
CALSCALE:GREGORIAN
METHOD:PUBLISH
BEGIN:VEVENT
DTSTAMP:20260424T092749Z
UID:8193d328-a1a8-4998-affd-c55b1c1fd46b
DTSTART;VALUE=DATE:20191122
DTEND;VALUE=DATE:20191122
DESCRIPTION:Sarasota BMX
LOCATION:1590 North Tuttle Avenue  Sarasota FL 34237 USA
SUMMARY:Standard Single Single
URL:/site/bmx_races/397681
END:VEVENT
END:VCALENDAR
