BEGIN:VCALENDAR
VERSION:2.0
PRODID:icalendar-ruby
CALSCALE:GREGORIAN
METHOD:PUBLISH
BEGIN:VEVENT
DTSTAMP:20260426T034659Z
UID:747c8246-9562-4610-8628-1195b2072456
DTSTART;VALUE=DATE:20191115
DTEND;VALUE=DATE:20191115
DESCRIPTION:Sarasota BMX
LOCATION:1590 North Tuttle Avenue  Sarasota FL 34237 USA
SUMMARY:Standard Single Single
URL:/site/bmx_races/397677
END:VEVENT
END:VCALENDAR
