BEGIN:VCALENDAR
VERSION:2.0
PRODID:icalendar-ruby
CALSCALE:GREGORIAN
METHOD:PUBLISH
BEGIN:VEVENT
DTSTAMP:20260424T090203Z
UID:fbea4632-677b-4a98-810a-18a7f2b5bd98
DTSTART;VALUE=DATE:20190825
DTEND;VALUE=DATE:20190825
DESCRIPTION:Central Wisconsin BMX
LOCATION:2220 E Riverview Expy\,  Wisconsin Rapids WI 54494 USA
SUMMARY:Standard Single Single
URL:/site/bmx_races/397489
END:VEVENT
END:VCALENDAR
