BEGIN:VCALENDAR
VERSION:2.0
PRODID:icalendar-ruby
CALSCALE:GREGORIAN
METHOD:PUBLISH
BEGIN:VEVENT
DTSTAMP:20260424T150638Z
UID:4c625abc-104f-4da6-987a-3cfe264567a7
DTSTART;VALUE=DATE:20190718
DTEND;VALUE=DATE:20190718
DESCRIPTION:Spokane BMX
LOCATION:5701 N Assembly St  Spokane WA 99205 USA
SUMMARY:Standard Single Single
URL:/site/bmx_races/397402
END:VEVENT
END:VCALENDAR
