BEGIN:VCALENDAR
VERSION:2.0
PRODID:icalendar-ruby
CALSCALE:GREGORIAN
METHOD:PUBLISH
BEGIN:VEVENT
DTSTAMP:20260424T091916Z
UID:6205043a-ea52-4c18-8d0c-4488c4e5db00
DTSTART;VALUE=DATE:20190720
DTEND;VALUE=DATE:20190720
DESCRIPTION:Mile High BMX
LOCATION:3606 S Independence St  Denver CO 80235 USA
SUMMARY:Standard Double Double
URL:/site/bmx_races/396882
END:VEVENT
END:VCALENDAR
