BEGIN:VCALENDAR
VERSION:2.0
PRODID:icalendar-ruby
CALSCALE:GREGORIAN
METHOD:PUBLISH
BEGIN:VEVENT
DTSTAMP:20260425T025548Z
UID:fac19b3b-3b01-4bf1-8527-7669b4d457b4
DTSTART;VALUE=DATE:20190803
DTEND;VALUE=DATE:20190804
DESCRIPTION:Waukegan BMX
LOCATION:2785 W Yorkhouse Rd  Waukegan IL 60085 USA
SUMMARY:Waukegan BMX Gold Cup /SCR weekend
URL:/site/bmx_races/396856
END:VEVENT
END:VCALENDAR
