BEGIN:VCALENDAR
VERSION:2.0
PRODID:icalendar-ruby
CALSCALE:GREGORIAN
METHOD:PUBLISH
BEGIN:VEVENT
DTSTAMP:20260424T233943Z
UID:ef5be991-adb7-4b04-a59f-39d594b6f3d5
DTSTART;VALUE=DATE:20190511
DTEND;VALUE=DATE:20190511
DESCRIPTION:Springfield BMX Raceway
LOCATION:4115 Sandhill Road  Springfield IL 62702 USA
SUMMARY:Qualifier Triple
URL:/site/bmx_races/396839
END:VEVENT
END:VCALENDAR
