BEGIN:VCALENDAR
VERSION:2.0
PRODID:icalendar-ruby
CALSCALE:GREGORIAN
METHOD:PUBLISH
BEGIN:VEVENT
DTSTAMP:20260424T065545Z
UID:9b989bd3-945b-45e8-9121-57f34144d1ad
DTSTART;VALUE=DATE:20190727
DTEND;VALUE=DATE:20190727
DESCRIPTION:Upstate BMX
LOCATION:6416 Silver Hill Rd  Newark NY 14513 USA
SUMMARY:Standard Double Double
URL:/site/bmx_races/396605
END:VEVENT
END:VCALENDAR
