BEGIN:VCALENDAR
VERSION:2.0
PRODID:icalendar-ruby
CALSCALE:GREGORIAN
METHOD:PUBLISH
BEGIN:VEVENT
DTSTAMP:20260424T185723Z
UID:728a4466-d0f6-4ea9-a090-162f1985ef4b
DTSTART;VALUE=DATE:20190601
DTEND;VALUE=DATE:20190601
DESCRIPTION:Smith Rock BMX
LOCATION:1935 Ne Maple  Redmond OR 97756 USA
SUMMARY:Qualifier/State Triple
URL:/site/bmx_races/396597
END:VEVENT
END:VCALENDAR
