BEGIN:VCALENDAR
VERSION:2.0
PRODID:icalendar-ruby
CALSCALE:GREGORIAN
METHOD:PUBLISH
BEGIN:VEVENT
DTSTAMP:20260424T181731Z
UID:cfb831c0-203d-4ec8-a1d4-8d1cbdfd64a1
DTSTART;VALUE=DATE:20190804
DTEND;VALUE=DATE:20190804
DESCRIPTION:Santa Clara PAL BMX
LOCATION:5401 Lafayette Street  Santa Clara CA 95051 USA
SUMMARY:Standard Single Single
URL:/site/bmx_races/396516
END:VEVENT
END:VCALENDAR
