BEGIN:VCALENDAR
VERSION:2.0
PRODID:icalendar-ruby
CALSCALE:GREGORIAN
METHOD:PUBLISH
BEGIN:VEVENT
DTSTAMP:20260425T011659Z
UID:2c43641d-9eb0-4a91-b5a4-aa7b97fc14bc
DTSTART;VALUE=DATE:20190104
DTEND;VALUE=DATE:20190104
DESCRIPTION:Santa Clara PAL BMX
LOCATION:5401 Lafayette Street  Santa Clara CA 95051 USA
SUMMARY:Standard Single Single
URL:/site/bmx_races/396425
END:VEVENT
END:VCALENDAR
