BEGIN:VCALENDAR
VERSION:2.0
PRODID:icalendar-ruby
CALSCALE:GREGORIAN
METHOD:PUBLISH
BEGIN:VEVENT
DTSTAMP:20260425T010648Z
UID:83684244-f47c-40ae-a1d9-74f65f388e68
DTSTART;VALUE=DATE:20190525
DTEND;VALUE=DATE:20190525
DESCRIPTION:Hunterdon County BMX
LOCATION:314 Rt 12 North  Flemington NJ 08822 USA
SUMMARY:Standard Single Single
URL:/site/bmx_races/396090
END:VEVENT
END:VCALENDAR
