BEGIN:VCALENDAR
VERSION:2.0
PRODID:icalendar-ruby
CALSCALE:GREGORIAN
METHOD:PUBLISH
BEGIN:VEVENT
DTSTAMP:20260425T115741Z
UID:e45e538c-bc7d-4ef8-ad5f-637ac1ff30fa
DTSTART;VALUE=DATE:20190120
DTEND;VALUE=DATE:20190120
DESCRIPTION:Yucaipa BMX
LOCATION:32750 Thunderbird Way  Yucaipa CA 92399 USA
SUMMARY:Standard Single Single
URL:/site/bmx_races/395647
END:VEVENT
END:VCALENDAR
