BEGIN:VCALENDAR
VERSION:2.0
PRODID:icalendar-ruby
CALSCALE:GREGORIAN
METHOD:PUBLISH
BEGIN:VEVENT
DTSTAMP:20260424T074629Z
UID:cbd53852-4bd2-49a4-9161-ba24a7611149
DTSTART;VALUE=DATE:20190829
DTEND;VALUE=DATE:20190829
DESCRIPTION:EHT BMX
LOCATION:Veterans Memorial Park Ocean Heights Ave Egg Harbor Township NJ 08
 234 USA
SUMMARY:Standard Single Single
URL:/site/bmx_races/395637
END:VEVENT
END:VCALENDAR
