BEGIN:VCALENDAR
VERSION:2.0
PRODID:icalendar-ruby
CALSCALE:GREGORIAN
METHOD:PUBLISH
BEGIN:VEVENT
DTSTAMP:20260425T202008Z
UID:520cff82-64fd-439b-8bbf-790f57bc77bb
DTSTART;VALUE=DATE:20190709
DTEND;VALUE=DATE:20190709
DESCRIPTION:Tri-City BMX
LOCATION:520 Burdeck St  Schenectady NY 12306 USA
SUMMARY:Standard Single Single
URL:/site/bmx_races/395528
END:VEVENT
END:VCALENDAR
