BEGIN:VCALENDAR
VERSION:2.0
PRODID:icalendar-ruby
CALSCALE:GREGORIAN
METHOD:PUBLISH
BEGIN:VEVENT
DTSTAMP:20260424T202404Z
UID:454173a3-5d2d-46a6-ae8b-7fa672fcf83d
DTSTART;VALUE=DATE:20190531
DTEND;VALUE=DATE:20190531
DESCRIPTION:Tri-City BMX
LOCATION:520 Burdeck St  Schenectady NY 12306 USA
SUMMARY:Standard Single Single
URL:/site/bmx_races/395518
END:VEVENT
END:VCALENDAR
