BEGIN:VCALENDAR
VERSION:2.0
PRODID:icalendar-ruby
CALSCALE:GREGORIAN
METHOD:PUBLISH
BEGIN:VEVENT
DTSTAMP:20260424T202407Z
UID:9cb8298d-232c-4cb6-adc6-b201467f89f8
DTSTART;VALUE=DATE:20190215
DTEND;VALUE=DATE:20190215
DESCRIPTION:Peninsula Indoor BMX
LOCATION:5867 Dogwood Road Se  Port Orchard WA 98367 USA
SUMMARY:Standard Single Single
URL:/site/bmx_races/395410
END:VEVENT
END:VCALENDAR
