BEGIN:VCALENDAR
VERSION:2.0
PRODID:icalendar-ruby
CALSCALE:GREGORIAN
METHOD:PUBLISH
BEGIN:VEVENT
DTSTAMP:20260420T040427Z
UID:d6827194-f7f8-4f6a-92a2-57e33be139d6
DTSTART;VALUE=DATE:20191127
DTEND;VALUE=DATE:20191127
DESCRIPTION:Metro BMX
LOCATION:3805 Chester Ave  In The Sam Lynn Ballpark Complex Bakersfield CA 
 93301 USA
SUMMARY:Practice
URL:/site/bmx_races/395331
END:VEVENT
END:VCALENDAR
