BEGIN:VCALENDAR
VERSION:2.0
PRODID:icalendar-ruby
CALSCALE:GREGORIAN
METHOD:PUBLISH
BEGIN:VEVENT
DTSTAMP:20260420T000247Z
UID:86c74d68-fcda-4f3c-b3d0-eeb397ca7853
DTSTART;VALUE=DATE:20190828
DTEND;VALUE=DATE:20190828
DESCRIPTION:Metro BMX
LOCATION:3805 Chester Ave  In The Sam Lynn Ballpark Complex Bakersfield CA 
 93301 USA
SUMMARY:Practice
URL:/site/bmx_races/395279
END:VEVENT
END:VCALENDAR
