BEGIN:VCALENDAR
VERSION:2.0
PRODID:icalendar-ruby
CALSCALE:GREGORIAN
METHOD:PUBLISH
BEGIN:VEVENT
DTSTAMP:20260420T000129Z
UID:5b32eb23-56c5-4a53-b843-1d896655c240
DTSTART;VALUE=DATE:20190823
DTEND;VALUE=DATE:20190823
DESCRIPTION:Metro BMX
LOCATION:3805 Chester Ave  In The Sam Lynn Ballpark Complex Bakersfield CA 
 93301 USA
SUMMARY:Standard Single Single
URL:/site/bmx_races/395276
END:VEVENT
END:VCALENDAR
