BEGIN:VCALENDAR
VERSION:2.0
PRODID:icalendar-ruby
CALSCALE:GREGORIAN
METHOD:PUBLISH
BEGIN:VEVENT
DTSTAMP:20260419T224809Z
UID:e1bae89e-52f9-42bb-ae37-bf501cfc0064
DTSTART;VALUE=DATE:20190728
DTEND;VALUE=DATE:20190728
DESCRIPTION:Metro BMX
LOCATION:3805 Chester Ave  In The Sam Lynn Ballpark Complex Bakersfield CA 
 93301 USA
SUMMARY:Local Race Single
URL:/site/bmx_races/395261
END:VEVENT
END:VCALENDAR
