BEGIN:VCALENDAR
VERSION:2.0
PRODID:icalendar-ruby
CALSCALE:GREGORIAN
METHOD:PUBLISH
BEGIN:VEVENT
DTSTAMP:20260419T212040Z
UID:03089b2f-0f5f-43ce-997f-a34facad4e38
DTSTART;VALUE=DATE:20190623
DTEND;VALUE=DATE:20190623
DESCRIPTION:Metro BMX
LOCATION:3805 Chester Ave  In The Sam Lynn Ballpark Complex Bakersfield CA 
 93301 USA
SUMMARY:Standard Single Single
URL:/site/bmx_races/395241
END:VEVENT
END:VCALENDAR
