BEGIN:VCALENDAR
VERSION:2.0
PRODID:icalendar-ruby
CALSCALE:GREGORIAN
METHOD:PUBLISH
BEGIN:VEVENT
DTSTAMP:20260419T182126Z
UID:1dae0221-3a01-48f9-bda1-25a4c47679bf
DTSTART;VALUE=DATE:20190403
DTEND;VALUE=DATE:20190403
DESCRIPTION:Metro BMX
LOCATION:3805 Chester Ave  In The Sam Lynn Ballpark Complex Bakersfield CA 
 93301 USA
SUMMARY:Practice
URL:/site/bmx_races/395196
END:VEVENT
END:VCALENDAR
