BEGIN:VCALENDAR
VERSION:2.0
PRODID:icalendar-ruby
CALSCALE:GREGORIAN
METHOD:PUBLISH
BEGIN:VEVENT
DTSTAMP:20260419T170106Z
UID:8ab97b47-9e74-4575-8beb-54e38c4449c8
DTSTART;VALUE=DATE:20190312
DTEND;VALUE=DATE:20190312
DESCRIPTION:Metro BMX
LOCATION:3805 Chester Ave  In The Sam Lynn Ballpark Complex Bakersfield CA 
 93301 USA
SUMMARY:Practice
URL:/site/bmx_races/395183
END:VEVENT
END:VCALENDAR
