BEGIN:VCALENDAR
VERSION:2.0
PRODID:icalendar-ruby
CALSCALE:GREGORIAN
METHOD:PUBLISH
BEGIN:VEVENT
DTSTAMP:20260419T170127Z
UID:88c26a87-4d1a-4650-9869-3848bbc8628b
DTSTART;VALUE=DATE:20190306
DTEND;VALUE=DATE:20190306
DESCRIPTION:Metro BMX
LOCATION:3805 Chester Ave  In The Sam Lynn Ballpark Complex Bakersfield CA 
 93301 USA
SUMMARY:Practice
URL:/site/bmx_races/395180
END:VEVENT
END:VCALENDAR
