BEGIN:VCALENDAR
VERSION:2.0
PRODID:icalendar-ruby
CALSCALE:GREGORIAN
METHOD:PUBLISH
BEGIN:VEVENT
DTSTAMP:20260424T115221Z
UID:b7ed557f-44ac-4dc4-bfda-e46c1ce88935
DTSTART;VALUE=DATE:20190207
DTEND;VALUE=DATE:20190207
DESCRIPTION:Ed Fountain Park BMX Raceway
LOCATION:1400 N Decatur Blvd  Las Vegas NV 89108 USA
SUMMARY:Standard Single Single
URL:/site/bmx_races/394709
END:VEVENT
END:VCALENDAR
