BEGIN:VCALENDAR
VERSION:2.0
PRODID:icalendar-ruby
CALSCALE:GREGORIAN
METHOD:PUBLISH
BEGIN:VEVENT
DTSTAMP:20260424T113653Z
UID:7a2413a9-d4ff-422b-a047-5fea9c24a959
DTSTART;VALUE=DATE:20190310
DTEND;VALUE=DATE:20190310
DESCRIPTION:Goodyear BMX Raceway
LOCATION:15660 W Roeser Rd  Goodyear AZ 85338 USA
SUMMARY:Standard Single Single
URL:/site/bmx_races/394360
END:VEVENT
END:VCALENDAR
