BEGIN:VCALENDAR
VERSION:2.0
PRODID:icalendar-ruby
CALSCALE:GREGORIAN
METHOD:PUBLISH
BEGIN:VEVENT
DTSTAMP:20260424T154518Z
UID:be954a29-d1bc-481d-802f-34558c7e03df
DTSTART;VALUE=DATE:20190515
DTEND;VALUE=DATE:20190515
DESCRIPTION:Heartland BMX
LOCATION:4801 Sw Shunga Dr  Topeka KS 66614 USA
SUMMARY:Standard Single Single
URL:/site/bmx_races/393575
END:VEVENT
END:VCALENDAR
