BEGIN:VCALENDAR
VERSION:2.0
PRODID:icalendar-ruby
CALSCALE:GREGORIAN
METHOD:PUBLISH
BEGIN:VEVENT
DTSTAMP:20260424T172245Z
UID:3354ff6c-e4ce-4579-81a8-a061dd61264f
DTSTART;VALUE=DATE:20190329
DTEND;VALUE=DATE:20190329
DESCRIPTION:Bonzai BMX
LOCATION:7201 Arlene Laman Dr  N. Little Rock AR 72118 USA
SUMMARY:Standard Single Single
URL:/site/bmx_races/393430
END:VEVENT
END:VCALENDAR
