BEGIN:VCALENDAR
VERSION:2.0
PRODID:icalendar-ruby
CALSCALE:GREGORIAN
METHOD:PUBLISH
BEGIN:VEVENT
DTSTAMP:20260424T220353Z
UID:4ce6fe7a-c77b-43c2-b1bc-cd42a17e5771
DTSTART;VALUE=DATE:20190106
DTEND;VALUE=DATE:20190106
DESCRIPTION:Rock Island Indoor BMX
LOCATION:2621 4th Ave  Rock Island IL 61201 USA
SUMMARY:Standard Triple Triple
URL:/site/bmx_races/393167
END:VEVENT
END:VCALENDAR
