BEGIN:VCALENDAR
VERSION:2.0
PRODID:icalendar-ruby
CALSCALE:GREGORIAN
METHOD:PUBLISH
BEGIN:VEVENT
DTSTAMP:20260425T214200Z
UID:a5b2ce0f-a443-425c-8ad5-280fb5072a15
DTSTART;VALUE=DATE:20190914
DTEND;VALUE=DATE:20190914
DESCRIPTION:Cedar BMX
LOCATION:Red Barn Village Rd  Clarks Summit PA 18644 USA
SUMMARY:Standard Single Single
URL:/site/bmx_races/392845
END:VEVENT
END:VCALENDAR
