BEGIN:VCALENDAR
VERSION:2.0
PRODID:icalendar-ruby
CALSCALE:GREGORIAN
METHOD:PUBLISH
BEGIN:VEVENT
DTSTAMP:20260425T103346Z
UID:3cddf9aa-f4c0-4ddc-8181-c8ea546a22d7
DTSTART;VALUE=DATE:20191013
DTEND;VALUE=DATE:20191013
DESCRIPTION:Chesapeake BMX
LOCATION:726 Donaldson Avenue  Severn MD 21144 USA
SUMMARY:Standard Single Single
URL:/site/bmx_races/392643
END:VEVENT
END:VCALENDAR
