BEGIN:VCALENDAR
VERSION:2.0
PRODID:icalendar-ruby
CALSCALE:GREGORIAN
METHOD:PUBLISH
BEGIN:VEVENT
DTSTAMP:20260424T091932Z
UID:7869a12d-3469-458f-9784-7f37941e1fdf
DTSTART;VALUE=DATE:20191029
DTEND;VALUE=DATE:20191029
DESCRIPTION:Okeeheelee BMX
LOCATION:8145 Forest Hill Blvd  West Palm Beach FL 33413 USA
SUMMARY:Standard Single Single
URL:/site/bmx_races/392523
END:VEVENT
END:VCALENDAR
