BEGIN:VCALENDAR
VERSION:2.0
PRODID:icalendar-ruby
CALSCALE:GREGORIAN
METHOD:PUBLISH
BEGIN:VEVENT
DTSTAMP:20260424T201254Z
UID:39d278fa-ad89-459d-9374-6e9a17cb040f
DTSTART;VALUE=DATE:20190111
DTEND;VALUE=DATE:20190111
DESCRIPTION:Okeeheelee BMX
LOCATION:8145 Forest Hill Blvd  West Palm Beach FL 33413 USA
SUMMARY:Standard Single Single
URL:/site/bmx_races/392420
END:VEVENT
END:VCALENDAR
