BEGIN:VCALENDAR
VERSION:2.0
PRODID:icalendar-ruby
CALSCALE:GREGORIAN
METHOD:PUBLISH
BEGIN:VEVENT
DTSTAMP:20260424T234047Z
UID:76705478-591e-4ee4-b687-1980ff359dc1
DTSTART;VALUE=DATE:20191114
DTEND;VALUE=DATE:20191114
DESCRIPTION:Miami South BMX
LOCATION:13050 Sw 216th Street  Miami FL 33170 USA
SUMMARY:Standard Single Single
URL:/site/bmx_races/392327
END:VEVENT
END:VCALENDAR
